BEGIN:VCALENDAR
VERSION:2.0
PRODID:-//CO-CABE - ECPv6.15.1.1//NONSGML v1.0//EN
CALSCALE:GREGORIAN
METHOD:PUBLISH
X-ORIGINAL-URL:https://www.cocabe.org
X-WR-CALDESC:Events for CO-CABE
REFRESH-INTERVAL;VALUE=DURATION:PT1H
X-Robots-Tag:noindex
X-PUBLISHED-TTL:PT1H
BEGIN:VTIMEZONE
TZID:America/Denver
BEGIN:DAYLIGHT
TZOFFSETFROM:-0700
TZOFFSETTO:-0600
TZNAME:MDT
DTSTART:20200308T090000
END:DAYLIGHT
BEGIN:STANDARD
TZOFFSETFROM:-0600
TZOFFSETTO:-0700
TZNAME:MST
DTSTART:20201101T080000
END:STANDARD
BEGIN:DAYLIGHT
TZOFFSETFROM:-0700
TZOFFSETTO:-0600
TZNAME:MDT
DTSTART:20210314T090000
END:DAYLIGHT
BEGIN:STANDARD
TZOFFSETFROM:-0600
TZOFFSETTO:-0700
TZNAME:MST
DTSTART:20211107T080000
END:STANDARD
END:VTIMEZONE
BEGIN:VEVENT
DTSTART;TZID=America/Denver:20210512T163000
DTEND;TZID=America/Denver:20210512T173000
DTSTAMP:20260423T234806
CREATED:20210422T162158Z
LAST-MODIFIED:20210503T182948Z
UID:7218-1620837000-1620840600@www.cocabe.org
SUMMARY:¡Sí se puede!: Project Recuerdo: A Critical and Culturally Sustaining Bilingual Family Journal Project
DESCRIPTION:¡Sí se puede!: Project Recuerdo: A Critical and Culturally Sustaining Bilingual Family Journal Project\n\n\n \n\n\n\n\nPresented by:Michelle LopezTeacherGarden Place Academy\n\n\n\n\n \n \n\n\nJoin us for this last episode of ¡Sí se puede! for the season! We’ll be taking a summer break and will return in the fall with more professional development and networking opportunities.\n \nProject Recuerdo is a critical and culturally sustaining family journal project. Join us to learn about and reflect upon a home to school practice that draws upon and integrates familial experiential knowledge to validate Latin@ communities within the classroom and to make curricula connections.\n\n \n\nAttendees will be emailed a link to attend the webinar prior to the event at the email address used to RSVP.\n\n\n \n\nSpace is limited\, get your tickets now!\n\n \nThis 60-minute webinar will be immediately followed by a virtual workshop. During the 90-minute virtual workshop\, we will further discuss the concepts presented during the webinar\, and give participants a space to share ideas for implementation in a smaller group environment. Participants that attend both the webinar and workshop portions will be eligible for a certificate of completion that shows 2.5 hours of professional development that can be counted toward their 90 clock hour requirement for license renewal. To receive your certificate\, you must register for the Workshop.\n \nIf you are signing up for the workshop\, do not select the webinar ticket as well\, it is included in your workshop ticket.
URL:https://www.cocabe.org/event/si-se-puede-project-recuerdo/
LOCATION:Webinar
CATEGORIES:¡Sí se puede!,Webinars,Workshops
ATTACH;FMTTYPE=image/png:https://www.cocabe.org/wp-content/uploads/2021/04/Si-Se-Puede-07.png
END:VEVENT
BEGIN:VEVENT
DTSTART;TZID=America/Denver:20210325T163000
DTEND;TZID=America/Denver:20210325T173000
DTSTAMP:20260423T234806
CREATED:20210220T183233Z
LAST-MODIFIED:20210325T004242Z
UID:6731-1616689800-1616693400@www.cocabe.org
SUMMARY:¡Sí se puede!: Culturally Responsive Family Engagement
DESCRIPTION:¡Sí se puede!: Culturally Responsive Family Engagement\n\n\n \n\n\n\n\nPresented by:\n\n\n\n\nDr. Khanh Nguyen Le\nAssistant Professor\nRegis University\n \n\n\nWhy is it important to consider families’ cultural backgrounds? What do schools and educators need to be mindful of to effectively maintain culturally responsive family engagement? What might be some of the pitfalls of traditional family engagement models relating to culturally and linguistically diverse families? What are some strategies to involve families in the classroom? We will discuss these questions and more. \n\n \n\nAttendees will be emailed a link to attend the webinar prior to the event at the email address used to RSVP.\n\n\n \n\nSpace is limited\, get your tickets now!\n\n \nThis 60-minute webinar will be immediately followed by a virtual CO-CABE Café. During the 90-minute virtual Café we will further discuss the concepts presented during the webinar\, and give participants a space to share ideas for implementation in a smaller group environment. Participants that attend both the webinar and café will be eligible for a certificate of completion that shows 2.5 hours of professional development that can be counted toward their 90 clock hour requirement for license renewal. To receive your certificate\, you must register for the Workshop.\n \nIf you are signing up for the workshop\, do not select the webinar ticket as well\, it is included in your workshop ticket.
URL:https://www.cocabe.org/event/si-se-puede-family-engagement/
LOCATION:Webinar
CATEGORIES:¡Sí se puede!,Webinars,Workshops
ATTACH;FMTTYPE=image/png:https://www.cocabe.org/wp-content/uploads/2021/02/Si-Se-Puede-06.png
END:VEVENT
BEGIN:VEVENT
DTSTART;TZID=America/Denver:20210127T163000
DTEND;TZID=America/Denver:20210127T173000
DTSTAMP:20260423T234806
CREATED:20210104T202348Z
LAST-MODIFIED:20210128T003734Z
UID:6032-1611765000-1611768600@www.cocabe.org
SUMMARY:¡Sí se puede!: Special Education and Bilingual Learners
DESCRIPTION:¡Sí se puede!: Special Education and Bilingual Learners\n\n\n \n\n\n\n\nPresented by:\n\n\n\n\nVanessa Santiago Schwarz & Elizabeth Silva Diaz\,\n\n\n\n \nIn this webinar the presenters will address topics related to special education for bilingual learners. As former elementary bilingual special education teachers who now work in higher education\, Vanessa Santiago Schwarz and Elizabeth Silva Diaz will share their knowledge about both identifying and supporting bilingual students with dis/abilities. Participants will gain an understanding of how to differentiate and scaffold instruction for this group of students through sound multi-tiered systems of support.\n\n\n \n\nAttendees will be emailed a link to attend the webinar prior to the event at the email address used to RSVP.\n\n\n \n\nSpace is limited\, get your tickets now!\n\n \nThis 60-minute webinar will be immediately followed by a virtual CO-CABE Café. During the 90-minute virtual Café we will further discuss the concepts presented during the webinar\, and give participants a space to share ideas for implementation in a smaller group environment. Participants that attend both the webinar and café will be eligible for a certificate of completion that shows 2.5 hours of professional development that can be counted toward their 90 clock hour requirement for license renewal. To receive your certificate\, you must register for the Workshop. If you are signing up for the workshop\, do not select the webinar ticket as well\, it is included in your workshop ticket.
URL:https://www.cocabe.org/event/si-se-puede-special-education-and-bilingual-learners/
LOCATION:Webinar
CATEGORIES:¡Sí se puede!,Webinars,Workshops
ATTACH;FMTTYPE=image/png:https://www.cocabe.org/wp-content/uploads/2021/01/Si-Se-Puede-05.png
END:VEVENT
BEGIN:VEVENT
DTSTART;TZID=America/Denver:20201118T163000
DTEND;TZID=America/Denver:20201118T173000
DTSTAMP:20260423T234806
CREATED:20201104T215529Z
LAST-MODIFIED:20201117T222906Z
UID:5576-1605717000-1605720600@www.cocabe.org
SUMMARY:¡Sí se puede!: Dual Language Instruction Across In-Person and Remote Settings
DESCRIPTION:¡Sí se puede!: Dual Language Instruction Across In-Person and Remote Settings\n\n\n \n\n\n\n\nPresented by:\n\n\n\n\nHeather LaMont\,Dual Language Program ManagerDenver Public Schools\n\n\n\n \nAre you a dual language teacher or parent wondering how you can support your emerging bilingual student? Join Heather LaMont\, Dual Language Program Manager in Denver Public Schools\, to explore best practices for two-way and immersion dual language elementary classrooms. Ms. LaMont and host Valeria Praga-Rodríguez will share ways to implement instruction in Spanish and English during both in-person and remote settings.\n\n\n \n\nAttendees will be emailed a link to attend the webinar prior to the event at the email address used to RSVP.\n\n\n \n\nSpace is limited\, get your tickets now!\n\n \nThis 60-minute webinar will be immediately followed by a virtual CO-CABE Café. During the 90-minute virtual Café we will further discuss the concepts presented during the webinar\, and give participants a space to share ideas for implementation in a smaller group environment. Participants that attend both the webinar and café will be eligible for a certificate of completion that shows 2.5 hours of professional development that can be counted toward their 90 clock hour requirement for license renewal. To receive your certificate\, you must register for the Workshop.
URL:https://www.cocabe.org/event/si-se-puede-dual-language-instruction-across-in-person-and-remote-settings/
LOCATION:Webinar
CATEGORIES:¡Sí se puede!,Webinars,Workshops
ATTACH;FMTTYPE=image/png:https://www.cocabe.org/wp-content/uploads/2020/11/Si-Se-Puede-04.png
END:VEVENT
BEGIN:VEVENT
DTSTART;TZID=America/Denver:20200926T093000
DTEND;TZID=America/Denver:20200926T110000
DTSTAMP:20260423T234806
CREATED:20200826T190541Z
LAST-MODIFIED:20200831T225409Z
UID:5176-1601112600-1601118000@www.cocabe.org
SUMMARY:Virtual CO-CABE Café: Sheltered Instruction for Bilingual Students Across In-Person and Remote Settings
DESCRIPTION:Virtual CO-CABE Café: Sheltered Instruction for Bilingual Students Across In-Person and Remote SettingsFacilitated by: Valeria Praga-Rodriguez\, Dr. Lorretta Chávez\, Liliana Sanchez-Cruz\, and Paulina Rodriguez CanizaresDuring our virtual CO-CABE Café\, we will further discuss the concepts presented during the ¡Sí se puede!: Sheltered Instruction for Bilingual Students Across In-Person and Remote Settings webinar.  Join Valeria Praga-Rodriguez\, Dr. Lorretta Chávez\, Liliana Sanchez-Cruz\, and Paulina Rodriguez Canizares for some Saturday morning coffee\, community\, and collaboration. This will be a great opportunity to share your ideas and discuss classroom implementation with your colleagues from across Colorado. Attendees will be emailed a link to attend the virtual CO-CABE Café prior to the event at the email address used to RSVP.    Space for this event is limited to allow for better discussion\, get your tickets now!
URL:https://www.cocabe.org/event/virtual-co-cabe-cafe-sheltered-instruction-across-in-person-and-remote-settings/
CATEGORIES:CO-CABE Café,Webinars
ATTACH;FMTTYPE=image/png:https://www.cocabe.org/wp-content/uploads/2020/08/Cafe02_1.png
END:VEVENT
BEGIN:VEVENT
DTSTART;TZID=America/Denver:20200923T163000
DTEND;TZID=America/Denver:20200923T173000
DTSTAMP:20260423T234806
CREATED:20200826T184636Z
LAST-MODIFIED:20201104T175520Z
UID:5165-1600878600-1600882200@www.cocabe.org
SUMMARY:¡Sí se puede!: Sheltered Instruction for Bilingual Students Across In-Person and Remote Settings
DESCRIPTION:¡Sí se puede!: Sheltered Instruction for Bilingual Students Across In-Person and Remote Settings\n\n\n \n\n\n\n\nPresented by:\n\n\n\n\nDr. Lorretta Chávez\,Professor of Culturally & Linguistically Diverse EducationMetropolitan State University of Denver\n\n\n\n \nAre you looking for skills and strategies to help your bilingual students acquire the knowledge and skills they need to succeed in the classroom and beyond? Join Dr. Lorretta Chávez to explore research-based strategies and best practices for sheltering content instruction for bilingual learners. Dr. Chávez\, along with our ¡Sí se puede! host\, Valeria Praga-Rodríguez\, will share ways to implement sheltered content instruction during both in-person and remote settings.\n\n\n \n\nAttendees will be emailed a link to attend the webinar prior to the event at the email address used to RSVP.\n\n\n \n\nSpace is limited\, get your tickets now!\n\n \nThis 60-minute session will be accompanied by an optional CO-CABE Café. The 90-minute virtual Café will take place on Saturday\, September 26th\, 9:30 – 11:00 am. We will further discuss the concepts presented during the webinar\, and give participants a space to share ideas for implementation in a smaller group environment. Space will be limited\, register for the Café here.
URL:https://www.cocabe.org/event/si-se-puede-sheltered-instruction-across-in-person-and-remote-settings/
LOCATION:Webinar
CATEGORIES:¡Sí se puede!,Webinars
ATTACH;FMTTYPE=image/png:https://www.cocabe.org/wp-content/uploads/2020/08/Si-Se-Puede-03_2.png
END:VEVENT
BEGIN:VEVENT
DTSTART;TZID=America/Denver:20200722T160000
DTEND;TZID=America/Denver:20200722T170000
DTSTAMP:20260423T234806
CREATED:20200630T171924Z
LAST-MODIFIED:20201104T175521Z
UID:4338-1595433600-1595437200@www.cocabe.org
SUMMARY:¡Sí se puede!: Planning for Cross-Language Transfer in Traditional and Remote Settings
DESCRIPTION:¡Sí se puede!: Planning for Cross-Language Transfer in Traditional and Remote Settings\n\n\n \n\n\n\n\nPresented by:\n\n\n\n\n\n\nValeria Praga-Rodríguez\,\nInstructional Coordinator\, English Language Acquisition Denver Public Schools\n\n\n\n\n\n \nCross-language transfer is a theoretical concept that should always be acknowledged when working with emerging bilingual students. During this session we will explore different types of language transfer and strategies to help students access all their linguistic repertoires in order to learn and communicate effectively in Spanish and English. Join us to learn ways to facilitate language transfer both in the classroom and in the remote setting. \n\n\n \n\nAttendees will be emailed a link to attend the webinar prior to the event at the email address used to RSVP.\n\n\n \n\nSpace is limited\, get your tickets now!\n\n \n \nThis 60-minute session will be accompanied by an optional CO-CABE Café. The 90-minute virtual Café will take place on Saturday\, July 25th\, 9:00 – 10:30 am. We will further discuss the concepts presented during the webinar\, and give participants a space to share ideas for implementation in a smaller group environment. Space will be limited\, register for the Café here.
URL:https://www.cocabe.org/event/sisepuede02/
LOCATION:Webinar
CATEGORIES:¡Sí se puede!,Webinars
ATTACH;FMTTYPE=image/png:https://www.cocabe.org/wp-content/uploads/2020/06/Si-Se-Puede-02-Wed-Final.png
END:VEVENT
BEGIN:VEVENT
DTSTART;TZID=America/Denver:20200527T150000
DTEND;TZID=America/Denver:20200527T160000
DTSTAMP:20260423T234806
CREATED:20200505T203041Z
LAST-MODIFIED:20201104T175522Z
UID:3657-1590591600-1590595200@www.cocabe.org
SUMMARY:¡Sí se puede!: Teaching and maintaining oracy in an era of online learning
DESCRIPTION: \n¡Sí se puede!: Teaching and maintaining oracy in an era of online learning\n\n\n \n\n\n\n\nPresented by:\n\n\n\n\n\n\nDr. Susan Hopewell\,\nAssociate Professor; Equity\, Biliteracy\, & Bilingualism University of Colorado Boulder\n\n\n\n\n\n \nJoin Dr. Hopewell in gaining a deeper understanding of oracy and why it is important.  This session will also highlight some strategies and online platforms to use for developing oracy as part of a balanced biliteracy program that attends to reading\, writing\, speaking\, and listening while acknowledging that children are not in physical classrooms.\n\n\n \n\nAttendees will be emailed a link to attend the webinar prior to the event at the email address used to RSVP.\n\n\n \n\nSpace is limited\, get your tickets now!
URL:https://www.cocabe.org/event/si-se-puede-teaching-and-maintaining-oracy-in-an-era-of-online-learning/
LOCATION:Webinar
CATEGORIES:¡Sí se puede!,Webinars
ATTACH;FMTTYPE=image/png:https://www.cocabe.org/wp-content/uploads/2020/05/Webinar-Announcement-Sold-Out.png
END:VEVENT
BEGIN:VEVENT
DTSTART;TZID=America/Denver:20200417T100000
DTEND;TZID=America/Denver:20200417T120000
DTSTAMP:20260423T234806
CREATED:20200416T165704Z
LAST-MODIFIED:20200416T165704Z
UID:3594-1587117600-1587124800@www.cocabe.org
SUMMARY:Apoyando a Nuestros Estudiantes en Casa / Supporting Students at Home Webinar
DESCRIPTION:School closures have brought unique challenges for all students. In this online Spanish-language webinar\, educators and health providers from different parts of the world will share ideas for Spanish-speaking families looking to find ways to support their children’s learning experience in the midst of the pandemic. \n\nEquity & Family Engagement: Socorro Herrera\, Professor of Curriculum & Instruction\, Kansas State University\nScience & Technology: Claudia Norez\, Dual Language Specialist\, Duval County Public Schools\, FL\nMath: Gladys Krause\, Assistant Professor of Math Education\, William & Mary\nReading: Katherine Barko-Alva\, Assistant Professor of ESL/Bilingual Education\, William & Mary\nHealth & Family: Teresa Posadas\, MD\, Universidad de San Martín de Porres\nMusic: Gustavo Velandia\, Professor of Music Education\, Pontificia Universidad Javeriana\nModerated by Christian Zúñiga\, Assistant Professor in the Department of Bilingual and Literacy Studies at the University of Texas Rio Grande Valley\n\nAn open Q&A will follow. Bring your questions! The webinar will be available as a recording for those who are not able to attend the live event. \nHosted by: William & Mary School of Education \nRegister now: https://cwm.zoom.us/webinar/register/WN_FDMjqKl8SiOzPTiaCOGZXg \nShare the FB event: https://www.facebook.com/events/158647508770564/ \nRetweet: https://twitter.com/WMSOE/status/1248707490088353794 (Spanish) \nRetweet: https://twitter.com/WMSOE/status/1248708125462532098 (English)
URL:https://www.cocabe.org/event/apoyando-a-nuestros-estudiantes-en-casa-supporting-students-at-home-webinar/
CATEGORIES:Webinars
ATTACH;FMTTYPE=image/png:https://www.cocabe.org/wp-content/uploads/2020/04/WandMFlyer.png
END:VEVENT
END:VCALENDAR