BEGIN:VCALENDAR
VERSION:2.0
PRODID:-//CO-CABE - ECPv6.15.1.1//NONSGML v1.0//EN
CALSCALE:GREGORIAN
METHOD:PUBLISH
X-WR-CALNAME:CO-CABE
X-ORIGINAL-URL:https://www.cocabe.org
X-WR-CALDESC:Events for CO-CABE
REFRESH-INTERVAL;VALUE=DURATION:PT1H
X-Robots-Tag:noindex
X-PUBLISHED-TTL:PT1H
BEGIN:VTIMEZONE
TZID:America/Denver
BEGIN:DAYLIGHT
TZOFFSETFROM:-0700
TZOFFSETTO:-0600
TZNAME:MDT
DTSTART:20190310T090000
END:DAYLIGHT
BEGIN:STANDARD
TZOFFSETFROM:-0600
TZOFFSETTO:-0700
TZNAME:MST
DTSTART:20191103T080000
END:STANDARD
BEGIN:DAYLIGHT
TZOFFSETFROM:-0700
TZOFFSETTO:-0600
TZNAME:MDT
DTSTART:20200308T090000
END:DAYLIGHT
BEGIN:STANDARD
TZOFFSETFROM:-0600
TZOFFSETTO:-0700
TZNAME:MST
DTSTART:20201101T080000
END:STANDARD
BEGIN:DAYLIGHT
TZOFFSETFROM:-0700
TZOFFSETTO:-0600
TZNAME:MDT
DTSTART:20210314T090000
END:DAYLIGHT
BEGIN:STANDARD
TZOFFSETFROM:-0600
TZOFFSETTO:-0700
TZNAME:MST
DTSTART:20211107T080000
END:STANDARD
END:VTIMEZONE
BEGIN:VEVENT
DTSTART;TZID=America/Denver:20210708T090000
DTEND;TZID=America/Denver:20210710T170000
DTSTAMP:20260424T101902
CREATED:20210308T214604Z
LAST-MODIFIED:20210709T172742Z
UID:6809-1625734800-1625936400@www.cocabe.org
SUMMARY:2021 National Spanish Spelling Bee
DESCRIPTION:Schedule of Events\n\nAll times listed in MDT. \n\nFriday\, July 9\, 2021\n\n9:00 am – Orientation Session \n\nIntroduction of National Spanish Spelling Bee (NSSB) StaffReview of Contest Rules and Procedures – THERE WILL BE NO PROTESTS OR CHALLENGES ALLOWED THIS YEARIntroduction of ParticipantsPractice Round\n\nSaturday\, July 10\, 2021\n\n9:00 am – 1:00 pm – Competition Begins \n\nLunch Break \n\n1:45 pm – Completion – Competition Continues and the 2021 Champion will be determined \n\nWatch the Livestream\n\n  \n\nResources\n\n2021 National Spanish Spelling Bee Booklet and Lista de PalabrasDownload\n\nStudent Study GuideDownload\n\n\n\nWatch the Event Live on YouTube\n\nWatch the Livestream\n\nThe orientation session will not be livestreamed. The livestream will begin on Saturday\, July 10th. Contestant Registration Closed
URL:https://www.cocabe.org/event/2021-national-spanish-spelling-bee/
CATEGORIES:National Spanish Spelling Bee,Spelling Bees
ATTACH;FMTTYPE=image/png:https://www.cocabe.org/wp-content/uploads/2021/03/NSSBlogo3_HD.png
END:VEVENT
BEGIN:VEVENT
DTSTART;TZID=America/Denver:20190711T020000
DTEND;TZID=America/Denver:20190714T110000
DTSTAMP:20260424T101902
CREATED:20190303T002847Z
LAST-MODIFIED:20200201T011638Z
UID:764-1562810400-1563102000@www.cocabe.org
SUMMARY:National Spanish Spelling Bee
DESCRIPTION:
URL:https://www.cocabe.org/event/national-spanish-spelling-bee/
LOCATION:Embassy Suites by Hilton Denver International Airport\, 7001 Yampa Street\, Denver\, CO\, 80249\, United States
CATEGORIES:National Spanish Spelling Bee
ORGANIZER;CN="Colorado Association for Bilingual Education":MAILTO:julie.benmellah@cocabe.org
END:VEVENT
END:VCALENDAR