BEGIN:VCALENDAR
VERSION:2.0
PRODID:-//CO-CABE - ECPv6.15.1.1//NONSGML v1.0//EN
CALSCALE:GREGORIAN
METHOD:PUBLISH
X-WR-CALNAME:CO-CABE
X-ORIGINAL-URL:https://www.cocabe.org
X-WR-CALDESC:Events for CO-CABE
REFRESH-INTERVAL;VALUE=DURATION:PT1H
X-Robots-Tag:noindex
X-PUBLISHED-TTL:PT1H
BEGIN:VTIMEZONE
TZID:America/Denver
BEGIN:DAYLIGHT
TZOFFSETFROM:-0700
TZOFFSETTO:-0600
TZNAME:MDT
DTSTART:20190310T090000
END:DAYLIGHT
BEGIN:STANDARD
TZOFFSETFROM:-0600
TZOFFSETTO:-0700
TZNAME:MST
DTSTART:20191103T080000
END:STANDARD
BEGIN:DAYLIGHT
TZOFFSETFROM:-0700
TZOFFSETTO:-0600
TZNAME:MDT
DTSTART:20200308T090000
END:DAYLIGHT
BEGIN:STANDARD
TZOFFSETFROM:-0600
TZOFFSETTO:-0700
TZNAME:MST
DTSTART:20201101T080000
END:STANDARD
BEGIN:DAYLIGHT
TZOFFSETFROM:-0700
TZOFFSETTO:-0600
TZNAME:MDT
DTSTART:20210314T090000
END:DAYLIGHT
BEGIN:STANDARD
TZOFFSETFROM:-0600
TZOFFSETTO:-0700
TZNAME:MST
DTSTART:20211107T080000
END:STANDARD
END:VTIMEZONE
BEGIN:VEVENT
DTSTART;TZID=America/Denver:20210501T160000
DTEND;TZID=America/Denver:20210501T160000
DTSTAMP:20260424T144531
CREATED:20210323T003855Z
LAST-MODIFIED:20210324T185845Z
UID:7015-1619884800-1619884800@www.cocabe.org
SUMMARY:Scholarship Application Deadline 2021/22
DESCRIPTION:The deadline to submit scholarship applications for the 2021/2022 academic year is May 1st\, 2021 at 4PM MT.
URL:https://www.cocabe.org/event/scholarship-deadline-2021-22/
CATEGORIES:Deadlines,Scholarship Application Deadlines
ATTACH;FMTTYPE=image/png:https://www.cocabe.org/wp-content/uploads/2021/03/Scholarships2021.png
END:VEVENT
BEGIN:VEVENT
DTSTART;TZID=America/Denver:20200315T160000
DTEND;TZID=America/Denver:20200315T160000
DTSTAMP:20260424T144531
CREATED:20200127T194155Z
LAST-MODIFIED:20200127T194155Z
UID:1697-1584288000-1584288000@www.cocabe.org
SUMMARY:2020/2021 Scholarship Application Deadline
DESCRIPTION:The deadline to apply for CO-CABE scholarships for the 2020/2021 academic year is March 15th\, 2020 at 4PM.
URL:https://www.cocabe.org/event/2020-2021-scholarship-application-deadline/
CATEGORIES:Scholarship Application Deadlines
END:VEVENT
BEGIN:VEVENT
DTSTART;VALUE=DATE:20190314
DTEND;VALUE=DATE:20190316
DTSTAMP:20260424T144531
CREATED:20181001T053816Z
LAST-MODIFIED:20200201T011721Z
UID:654-1552586400-1552672799@www.cocabe.org
SUMMARY:Scholarship Deadline
DESCRIPTION:
URL:https://www.cocabe.org/event/scholarship-deadline/
CATEGORIES:Scholarship Application Deadlines
END:VEVENT
END:VCALENDAR