BEGIN:VCALENDAR
VERSION:2.0
PRODID:-//CO-CABE - ECPv6.15.1.1//NONSGML v1.0//EN
CALSCALE:GREGORIAN
METHOD:PUBLISH
X-ORIGINAL-URL:https://www.cocabe.org
X-WR-CALDESC:Events for CO-CABE
REFRESH-INTERVAL;VALUE=DURATION:PT1H
X-Robots-Tag:noindex
X-PUBLISHED-TTL:PT1H
BEGIN:VTIMEZONE
TZID:America/Denver
BEGIN:DAYLIGHT
TZOFFSETFROM:-0700
TZOFFSETTO:-0600
TZNAME:MDT
DTSTART:20200308T090000
END:DAYLIGHT
BEGIN:STANDARD
TZOFFSETFROM:-0600
TZOFFSETTO:-0700
TZNAME:MST
DTSTART:20201101T080000
END:STANDARD
BEGIN:DAYLIGHT
TZOFFSETFROM:-0700
TZOFFSETTO:-0600
TZNAME:MDT
DTSTART:20210314T090000
END:DAYLIGHT
BEGIN:STANDARD
TZOFFSETFROM:-0600
TZOFFSETTO:-0700
TZNAME:MST
DTSTART:20211107T080000
END:STANDARD
BEGIN:DAYLIGHT
TZOFFSETFROM:-0700
TZOFFSETTO:-0600
TZNAME:MDT
DTSTART:20220313T090000
END:DAYLIGHT
BEGIN:STANDARD
TZOFFSETFROM:-0600
TZOFFSETTO:-0700
TZNAME:MST
DTSTART:20221106T080000
END:STANDARD
BEGIN:DAYLIGHT
TZOFFSETFROM:-0700
TZOFFSETTO:-0600
TZNAME:MDT
DTSTART:20230312T090000
END:DAYLIGHT
BEGIN:STANDARD
TZOFFSETFROM:-0600
TZOFFSETTO:-0700
TZNAME:MST
DTSTART:20231105T080000
END:STANDARD
BEGIN:DAYLIGHT
TZOFFSETFROM:-0700
TZOFFSETTO:-0600
TZNAME:MDT
DTSTART:20240310T090000
END:DAYLIGHT
BEGIN:STANDARD
TZOFFSETFROM:-0600
TZOFFSETTO:-0700
TZNAME:MST
DTSTART:20241103T080000
END:STANDARD
END:VTIMEZONE
BEGIN:VEVENT
DTSTART;TZID=America/Denver:20240926T233000
DTEND;TZID=America/Denver:20240926T233000
DTSTAMP:20260424T041815
CREATED:20240820T202049Z
LAST-MODIFIED:20240820T202056Z
UID:12124-1727393400-1727393400@www.cocabe.org
SUMMARY:2024 Educator & Advocate Awards Nomination Deadline
DESCRIPTION:Nominate an educator or advocate for an award.Award Descriptions\n\nNominations Form
URL:https://www.cocabe.org/event/2024-educator-advocate-awards-nomination-deadline/
CATEGORIES:Awards Nominations Deadline,Deadlines
END:VEVENT
BEGIN:VEVENT
DTSTART;TZID=America/Denver:20210924T170000
DTEND;TZID=America/Denver:20210924T170000
DTSTAMP:20260424T041815
CREATED:20210831T001323Z
LAST-MODIFIED:20210927T113013Z
UID:7545-1632502800-1632502800@www.cocabe.org
SUMMARY:CLOSED- Educator & Advocate Awards Nominations Deadline
DESCRIPTION:The deadline to submit nominations for the 2021 Colorado Bilingual Educator & Advocate Awards is September 24th\, 2021.
URL:https://www.cocabe.org/event/educator-advocate-awards-nominations-deadline/
CATEGORIES:Awards Nominations Deadline,Deadlines
END:VEVENT
BEGIN:VEVENT
DTSTART;TZID=America/Denver:20200824T230000
DTEND;TZID=America/Denver:20200824T230000
DTSTAMP:20260424T041815
CREATED:20200201T231524Z
LAST-MODIFIED:20200616T191253Z
UID:1870-1598310000-1598310000@www.cocabe.org
SUMMARY:2020 Educator & Advocate Awards Nominations Deadline
DESCRIPTION:The deadline to submit nominations for the 2020 CO-CABE Educator & Advocate Awards is August 24th\, 2020 at 5 PM. \nAwards will be presented at the Annual CO-CABE Awards Gala in October 2020.
URL:https://www.cocabe.org/event/2020-bilingual-educator-awards-nominations-deadline/
CATEGORIES:Awards Nominations Deadline
END:VEVENT
END:VCALENDAR