BEGIN:VCALENDAR
VERSION:2.0
PRODID:-//CO-CABE - ECPv6.15.1.1//NONSGML v1.0//EN
CALSCALE:GREGORIAN
METHOD:PUBLISH
X-ORIGINAL-URL:https://www.cocabe.org
X-WR-CALDESC:Events for CO-CABE
REFRESH-INTERVAL;VALUE=DURATION:PT1H
X-Robots-Tag:noindex
X-PUBLISHED-TTL:PT1H
BEGIN:VTIMEZONE
TZID:America/Denver
BEGIN:DAYLIGHT
TZOFFSETFROM:-0700
TZOFFSETTO:-0600
TZNAME:MDT
DTSTART:20200308T090000
END:DAYLIGHT
BEGIN:STANDARD
TZOFFSETFROM:-0600
TZOFFSETTO:-0700
TZNAME:MST
DTSTART:20201101T080000
END:STANDARD
BEGIN:DAYLIGHT
TZOFFSETFROM:-0700
TZOFFSETTO:-0600
TZNAME:MDT
DTSTART:20210314T090000
END:DAYLIGHT
BEGIN:STANDARD
TZOFFSETFROM:-0600
TZOFFSETTO:-0700
TZNAME:MST
DTSTART:20211107T080000
END:STANDARD
END:VTIMEZONE
BEGIN:VEVENT
DTSTART;TZID=America/Denver:20210612T090000
DTEND;TZID=America/Denver:20210612T140000
DTSTAMP:20260424T181119
CREATED:20210527T163404Z
LAST-MODIFIED:20210527T163407Z
UID:7334-1623488400-1623506400@www.cocabe.org
SUMMARY:Board of Directors Annual Retreat
DESCRIPTION:CO-CABE Board of Directors Annual Retreat. The 2021 retreat will be held via videoconference.
URL:https://www.cocabe.org/event/board-of-directors-annual-retreat-2/
CATEGORIES:Board Meetings
END:VEVENT
BEGIN:VEVENT
DTSTART;TZID=America/Denver:20210312T173000
DTEND;TZID=America/Denver:20210312T203000
DTSTAMP:20260424T181119
CREATED:20210312T192609Z
LAST-MODIFIED:20210312T192611Z
UID:6919-1615570200-1615581000@www.cocabe.org
SUMMARY:Board of Directors - Quarterly Meeting
DESCRIPTION:This quarterly meeting of the Board of Directors will be held virtually via Google Meet. If you would like to attend\, please RSVP below.
URL:https://www.cocabe.org/event/board-of-directors-quarterly-meeting/
CATEGORIES:Board Meetings
END:VEVENT
BEGIN:VEVENT
DTSTART;TZID=America/Denver:20201204T173000
DTEND;TZID=America/Denver:20201204T203000
DTSTAMP:20260424T181119
CREATED:20201125T164211Z
LAST-MODIFIED:20201125T164303Z
UID:5845-1607103000-1607113800@www.cocabe.org
SUMMARY:Board Meeting
DESCRIPTION:
URL:https://www.cocabe.org/event/board-meeting/
CATEGORIES:Board Meetings
END:VEVENT
BEGIN:VEVENT
DTSTART;TZID=America/Denver:20200516T130000
DTEND;TZID=America/Denver:20200516T160000
DTSTAMP:20260424T181119
CREATED:20200422T173215Z
LAST-MODIFIED:20200514T182728Z
UID:3620-1589634000-1589644800@www.cocabe.org
SUMMARY:Board of Directors - Annual Retreat
DESCRIPTION:The CO-CABE Board of Directors annual retreat has been rescheduled for May 16th 2020.\n\nThis meeting will be conducted via videoconferencing.
URL:https://www.cocabe.org/event/board-of-directors-annual-retreat/
LOCATION:Videoconference
CATEGORIES:Board Meetings
END:VEVENT
END:VCALENDAR